Workbook

Sheet 예산총칙
A2: 2026년 예산 총칙
B5: 제1조 | C5: 사회복지법인 서울가톨릭사회복지회 수익사업회계의 2026년 제1차 추가경정 세입 · 세출예산액은 각각 116,356천원이며
C6: 2026년 예산 대비 29.8% 증가하였다.
B8: 제2조 1. 세입ㆍ세출의 명세는 세입ㆍ세출 예산서와 같다.
C9: 2. 세입의 주요 재원은 다음과 같다.
D10: 1) 재산수입 | F10: 87022.724 | H10: 천원 | I10: 2) 이월금 | J10: 5259.389 | L10: 천원
D11: 3) 잡수입 | F11: 24073.887 | H11: 천원
C12: 3. 세출의 내용은 다음과 같다.
D13: 1) 사무비 | F13: 13969 | H13: 천원 | I13: 2) 잡지출 | J13: 15010 | L13: 천원
D14: 3) 예비비 및 기타 | F14: 87377 | H14: 천원
B16: 제3조 | C16: 세출경비가 부족할 경우에는 사회복지법인 및 사회복지시설 재무회계규칙 제 16조에 의거하여 예산을 전용할 수 있다.

Sheet 총괄(이사회용)
A1: [법인] 2026년도 서울가톨릭사회복지회 제1차 추가경정예산(안) 총괄표(수익사업회계)
M2: (단위 : 천원)
A3: 세 입 | G3: 세 출 | M3: 증감내역
A4: 관 | B4: 항 | C4: 2026년 예산(A) | D4: 2026년 1차추경(B) | E4: 증 감(B-A) | G4: 관 | H4: 항 | I4: 2026년 예산(A) | J4: 2026년 1차추경(B) | K4: 증 감(B-A)
E5: 금 액 | F5: 비 율 | K5: 금 액 | L5: 비 율
A6: 총 계 | C6: =SUM(C7,C9,C11) -> 89666 | D6: =SUM(D7,D9,D11) -> 116356 | E6: =D6-C6 -> 26690 | F6: =E6/C6*100 -> 29.76602 | G6: 총 계 | I6: =I7++I9+I11 -> 89666 | J6: =J7+J9+J11 -> 116356 | K6: =J6-I6 -> 26690 | L6: =K6/I6*100 -> 29.76602 | M6: ※세입 변동 내역 ◆ 임대수입 증가: 명도소송 기간 중 동자동 임대소득 반영 ◆ 전년도이월금 감소: 2025년 이월금 감소 예상 ◆ 잡수입 증가: 동자동물건 임대보증금 세입 반영
A7: 재산수입 | C7: =SUM(C8:C8) -> 75573 | D7: =SUM(D8:D8) -> 87022.724 | E7: =D7-C7 -> 11449.724 | F7: =E7/C7*100 -> 15.150548 | G7: 사무비 | I7: =SUM(I8:I8) -> 12722 | J7: =SUM(J8:J8) -> 13969 | K7: =J7-I7 -> 1247 | L7: =K7/I7*100 -> 9.8019179
B8: 임대수입 | C8: =세입예산서!D8 -> 75573 | D8: =세입예산서!E8 -> 87022.724 | E8: =D8-C8 -> 11449.724 | F8: =E8/C8*100 -> 15.150548 | H8: 제세공과금 | I8: =세출예산서!D7 -> 12722 | J8: =세출예산서!E7 -> 13969 | K8: =J8-I8 -> 1247 | L8: =K8/I8*100 -> 9.8019179
A9: 이월금 | C9: =SUM(C10) -> 7583 | D9: =SUM(D10) -> 5259.389 | E9: =D9-C9 -> -2323.611 | F9: =E9/C9*100 -> -30.642371 | G9: 잡지출 | I9: =SUM(I10) -> 10 | J9: =SUM(J10) -> 15010 | K9: =J9-I9 -> 15000 | L9: =K9/I9*100 -> 150000
B10: 전년도이월금 | C10: =세입예산서!D18 -> 7583 | D10: =세입예산서!E16 -> 5259.389 | E10: =D10-C10 -> -2323.611 | F10: =E10/C10*100 -> -30.642371 | H10: 잡지출 | I10: =세출예산서!D13 -> 10 | J10: =세출예산서!E13 -> 15010 | K10: =J10-I10 -> 15000 | L10: =K10/I10*100 -> 150000 | M10: ※ 세출 변동 내역 ◆ 제세공과금 증가: 재산제 증가 ◆ 잡지출 증가: 동자동 물건 임대보증금 반환 예정 ◆ 고유목적사업 전입 증가: 임대수입 증가로 전입 증가
A11: 잡수입 | C11: =C12 -> 6510 | D11: =D12 -> 24073.887 | E11: =D11-C11 -> 17563.887 | F11: =E11/C11*100 -> 269.79857 | G11: 예비비 및 기타 | I11: =SUM(I12:I13) -> 76934 | J11: =SUM(J12:J13) -> 87377 | K11: =J11-I11 -> 10443 | L11: =K11/I11*100 -> 13.573972
B12: 잡수입 | C12: =세입예산서!D19 -> 6510 | D12: =세입예산서!E19 -> 24073.887 | E12: =D12-C12 -> 17563.887 | F12: =E12/C12*100 -> 269.79857 | H12: 고유목적사업전입 | I12: =세출예산서!D18 -> 75573 | J12: =세출예산서!E18 -> 87022.724 | K12: =J12-I12 -> 11449.724 | L12: =K12/I12*100 -> 15.150548
H13: 예비비 | I13: =세출예산서!D24 -> 1361 | J13: =세출예산서!E24 -> 354.276 | K13: =J13-I13 -> -1006.724 | L13: =K13/I13*100 -> -73.969434

Sheet 세입예산서
A1: 서울가톨릭사회복지회 2026년 제1차 추가경정예산 세입·세출 명세서(수익사업회계)
A3: 1. 세 입 | N3: (단위 : 천원)
A4: 관 | B4: 항 | C4: 목 | D4: 2026년 예산(A) | E4: 2026년 1차추경(B) | F4: 증감(B-A) | H4: 산출내역(단위: 원)
F5: 금액 | G5: 비율(%)
A6: 총 계 | D6: =SUM(D7,D16,D19) -> 89666 | E6: =SUM(E7,E16,E19) -> 116356 | F6: =+E6-D6 -> 26690 | G6: =F6/D6*100 -> 29.76602 | O6: =SUM(O7,O16,O19) -> 1.16356e+08 | P6: 원
A7: 재산 | B7: 합계 | D7: =SUM(D8) -> 75573 | E7: =SUM(E8) -> 87022.724 | F7: =+E7-D7 -> 11449.724 | G7: =F7/D7*100 -> 15.150548 | O7: =SUM(O8) -> 87022724 | P7: 원
A8: 수입 | B8: 기본 | C8: 소계 | D8: =SUM(D9:D15) -> 75573 | E8: =O8/1000 -> 87022.724 | F8: =+E8-D8 -> 11449.724 | G8: =F8/D8*100 -> 15.150548 | O8: =O9 -> 87022724 | P8: 원
B9: 재산수입 | C9: 임대수입 | D9: 75573 | E9: =O9/1000 -> 87022.724 | F9: =+E9-D9 -> 11449.724 | G9: =F9/D9*100 -> 15.150548 | L9: 계 | O9: =SUM(O10:O15) -> 87022724 | P9: 원
G10: =F10/D10*100 -> #DIV/0! | H10: 옥수동아파트 임대수입 | I10: 2554166.7 | J10: 원 | K10: × | L10: 12 | M10: 월 | N10: = | O10: =SUM(I10*L10) -> 30650000 | P10: 원
G11: =F11/D11*100 -> #DIV/0! | H11: 신풍오피스텔 임대 | I11: 1300000 | J11: 원 | K11: × | L11: 12 | M11: 월 | N11: = | O11: =SUM(I11*L11) -> 15600000 | P11: 원
G12: =F12/D12*100 -> #DIV/0! | H12: 구리아파트 임대수입 | I12: 0 | J12: 원 | K12: × | L12: 12 | M12: 월 | N12: = | O12: =SUM(I12*L12) -> 0 | P12: 원
H13: 동자동물건 임대료 | I13: 1000000 | J13: 원 | K13: × | L13: 12 | M13: 월 | N13: = | O13: =SUM(I13*L13) -> 12000000 | P13: 원
G14: =F14/D14*100 -> #DIV/0! | H14: 번동건물 임대료 | I14: 2272727 | J14: 원 | K14: × | L14: 12 | M14: 월 | N14: = | O14: =SUM(I14*L14) -> 27272724 | P14: 원
G15: =F15/D15*100 -> #DIV/0! | H15: 통신사 기지국 임대수입 | I15: 750000 | J15: 원 | K15: × | L15: 2 | M15: 회 | N15: = | O15: =SUM(I15*L15) -> 1500000 | P15: 원
A16: 이월금 | B16: 합계 | D16: =SUM(D17) -> 7583 | E16: =SUM(E17) -> 5259.389 | F16: =+E16-D16 -> -2323.611 | G16: =F16/D16*100 -> -30.642371 | O16: =SUM(O17) -> 5259389 | P16: 원
B17: 이월금 | C17: 소계 | D17: =SUM(D18:D18) -> 7583 | E17: =SUM(E18:E18) -> 5259.389 | F17: =E17-D17 -> -2323.611 | G17: =F17/D17*100 -> -30.642371 | M17: 계 | O17: =SUM(O18:O18) -> 5259389 | P17: 원
C18: 전년도이월금 | D18: 7583 | E18: =+O18/1000 -> 5259.389 | F18: =E18-D18 -> -2323.611 | G18: =F18/D18*100 -> -30.642371 | H18: 전년도이월금 | I18: 5259389 | J18: 원 | K18: × | L18: 1 | M18: 회 | N18: = | O18: =+I18*L18 -> 5259389 | P18: 원
A19: 잡수입 | B19: 합계 | D19: =D20 -> 6510 | E19: =E20 -> 24073.887 | F19: =F20 -> 17563.887 | G19: =F19/D19*100 -> 269.79857 | O19: =SUM(O20) -> 24073887 | P19: 원
B20: 잡수입 | C20: 소계 | D20: =SUM(D21:D22) -> 6510 | E20: =SUM(E21:E22) -> 24073.887 | F20: =E20-D20 -> 17563.887 | G20: =F20/D20*100 -> 269.79857 | M20: 계 | O20: =SUM(O21:O22) -> 24073887 | P20: 원
C21: 예금이자수입 | D21: 6500 | E21: =O21/1000 -> 6500 | F21: =+E21-D21 -> 0 | G21: =F21/D21*100 -> 0 | H21: 예금이자수입 | I21: 1625000 | J21: 원 | K21: × | L21: 4 | M21: 분기 | N21: = | O21: =SUM(I21*L21) -> 6500000 | P21: 원
C22: 기타잡수입 | D22: 10 | E22: =O22/1000 -> 17573.887 | F22: =+E22-D22 -> 17563.887 | G22: =F22/D22*100 -> 175638.87 | H22: 기타잡수입 | I22: 8786943.5 | J22: 원 | K22: × | L22: 2 | M22: 회 | N22: = | O22: =I22*L22 -> 17573887 | P22: 원

Sheet 세출예산서
A1: 2. 세 출
N2: (단위 : 천원)
A3: 관 | B3: 항 | C3: 목 | D3: 2026년 예산(A) | E3: 2026년 1차 추경(B) | F3: 증감(B-A) | H3: 산출내역(단위: 원)
F4: 금액 | G4: 비율
A5: 총계 | D5: =SUM(D6,D17,D13) -> 89666 | E5: =SUM(E6,E17,E13) -> 116356 | F5: =+E5-D5 -> 26690 | G5: =F5/D5*100 -> 29.76602 | O5: =SUM(O6,O13,O17) -> 1.16356e+08 | P5: 원
A6: 사무비 | B6: 합계 | D6: =SUM(D7) -> 12722 | E6: =SUM(E7) -> 13969 | F6: =+E6-D6 -> 1247 | G6: =F6/D6*100 -> 9.8019179 | O6: =SUM(O7) -> 13969000 | P6: 원
B7: 운영비 | C7: 소계 | D7: =SUM(D8:D12) -> 12722 | E7: =SUM(E8:E12) -> 13969 | F7: =E7-D7 -> 1247 | G7: =F7/D7*100 -> 9.8019179 | O7: =SUM(O8,O10) -> 13969000 | P7: 원
C8: 수용비 및 수수료 | D8: 0 | E8: =O8/1000 -> 200 | F8: =E8-D8 -> 200 | G8: 신규 | L8: 계 | O8: =SUM(O9) -> 200000 | P8: 원
H9: 중개수수료 등 | I9: 100000 | J9: 원 | K9: × | L9: 2 | M9: 회 | N9: = | O9: =SUM(I9*L9) -> 200000 | P9: 원
C10: 제세공과금 | D10: 12722 | E10: =+O10/1000 -> 13769 | F10: =+E10-D10 -> 1047 | G10: =F10/D10*100 -> 8.2298381 | L10: 계 | O10: =SUM(O11:O12) -> 13769000 | P10: 원
G11: =F11/D11*100 -> #DIV/0! | H11: 재산세 및 재산관련 보험 | I11: 6614500 | J11: 원 | K11: × | L11: 2 | M11: 회 | N11: = | O11: =SUM(I11*L11) -> 13229000 | P11: 원
G12: =F12/D12*100 -> #DIV/0! | H12: 간주임대료 | I12: 135000 | J12: 원 | K12: × | L12: 4 | M12: 회 | N12: = | O12: =SUM(I12*L12) -> 540000 | P12: 원
A13: 잡지출 | B13: 합계 | D13: =+D14 -> 10 | E13: =+E14 -> 15010 | F13: =+E13-D13 -> 15000 | G13: =F13/D13*100 -> 150000 | O13: =O14 -> 15010000 | P13: 원
B14: 잡지출 | C14: 잡지출 | D14: 10 | E14: =+O14/1000 -> 15010 | F14: =+E14-D14 -> 15000 | G14: =F14/D14*100 -> 150000 | L14: 계 | O14: =SUM(O15:O16) -> 15010000 | P14: 원
H15: 잡지출 | I15: 10000 | J15: 원 | K15: × | L15: 1 | M15: 회 | N15: = | O15: =+I15*L15 -> 10000 | P15: 원
H16: 임대보증금(동자동) 반환 | I16: 15000000 | J16: 원 | K16: × | L16: 1 | M16: 회 | N16: = | O16: =+I16*L16 -> 15000000 | P16: 원
A17: 예비비 | B17: 합계 | D17: =SUM(D18:D25) -> 76934 | E17: =SUM(E18:E25) -> 87377 | F17: =+E17-D17 -> 10443 | G17: =F17/D17*100 -> 13.573972 | L17: 계 | O17: =SUM(O18,O20,O24) -> 87377000 | P17: 원
A18: 및 기타 | B18: 예비비 | C18: 고유목적사업준비금 전입 | D18: 75573 | E18: =O18/1000 -> 87022.724 | F18: =E18-D18 -> 11449.724 | G18: =F18/D18*100 -> 15.150548 | O18: =SUM(O19:O19) -> 87022724 | P18: 원
B19: 및 기타 | G19: =F19/D19*100 -> #DIV/0! | H19: 고유목적사업준비금 전입 | I19: =세입예산서!O8 -> 87022724 | J19: 원 | K19: × | L19: 1 | M19: 회 | N19: = | O19: =+I19*L19 -> 87022724 | P19: 원
C20: 차년도이월금 | D20: 0 | E20: 0 | F20: =E20-D20 -> 0 | G20: =F20/D20*100 -> #DIV/0! | O20: =SUM(O21:O23) -> 0 | P20: 원
H21: 비지정후원 차년도이월금 | I21: 0 | J21: 원 | K21: × | L21: 1 | M21: 회 | N21: = | O21: =+I21*L21 -> 0 | P21: 원
H22: 지정후원 차년도이월금 | I22: 0 | J22: 원 | K22: × | L22: 1 | M22: 회 | N22: = | O22: =+I22*L22 -> 0 | P22: 원
H23: 기타 차년도이월금 | I23: 0 | J23: 원 | K23: × | L23: 1 | M23: 회 | N23: = | O23: =+I23*L23 -> 0 | P23: 원
C24: 예비비 | D24: 1361 | E24: =O24/1000 -> 354.276 | F24: =E24-D24 -> -1006.724 | G24: =F24/D24*100 -> -73.969434 | L24: 계 | O24: =SUM(O25:O25) -> 354276 | P24: 원
G25: =F25/D25*100 -> #DIV/0! | H25: 예비비 | I25: 354276 | J25: 원 | K25: × | L25: 1 | M25: 회 | N25: = | O25: =+I25*L25 -> 354276 | P25: 원
